BEGIN:VCALENDAR
VERSION:2.0
PRODID:-//Wings Over The Rockies - ECPv6.15.20//NONSGML v1.0//EN
CALSCALE:GREGORIAN
METHOD:PUBLISH
X-WR-CALNAME:Wings Over The Rockies
X-ORIGINAL-URL:https://wingsmuseum.org
X-WR-CALDESC:Events for Wings Over The Rockies
REFRESH-INTERVAL;VALUE=DURATION:PT1H
X-Robots-Tag:noindex
X-PUBLISHED-TTL:PT1H
BEGIN:VTIMEZONE
TZID:America/Denver
BEGIN:DAYLIGHT
TZOFFSETFROM:-0700
TZOFFSETTO:-0600
TZNAME:MDT
DTSTART:20230312T090000
END:DAYLIGHT
BEGIN:STANDARD
TZOFFSETFROM:-0600
TZOFFSETTO:-0700
TZNAME:MST
DTSTART:20231105T080000
END:STANDARD
BEGIN:DAYLIGHT
TZOFFSETFROM:-0700
TZOFFSETTO:-0600
TZNAME:MDT
DTSTART:20240310T090000
END:DAYLIGHT
BEGIN:STANDARD
TZOFFSETFROM:-0600
TZOFFSETTO:-0700
TZNAME:MST
DTSTART:20241103T080000
END:STANDARD
BEGIN:DAYLIGHT
TZOFFSETFROM:-0700
TZOFFSETTO:-0600
TZNAME:MDT
DTSTART:20250309T090000
END:DAYLIGHT
BEGIN:STANDARD
TZOFFSETFROM:-0600
TZOFFSETTO:-0700
TZNAME:MST
DTSTART:20251102T080000
END:STANDARD
BEGIN:DAYLIGHT
TZOFFSETFROM:-0700
TZOFFSETTO:-0600
TZNAME:MDT
DTSTART:20260308T090000
END:DAYLIGHT
BEGIN:STANDARD
TZOFFSETFROM:-0600
TZOFFSETTO:-0700
TZNAME:MST
DTSTART:20261101T080000
END:STANDARD
END:VTIMEZONE
BEGIN:VEVENT
DTSTART;TZID=America/Denver:20240316T133000
DTEND;TZID=America/Denver:20240316T153000
DTSTAMP:20260424T024142
CREATED:20240216T220441Z
LAST-MODIFIED:20240318T145129Z
UID:3436-1710595800-1710603000@wingsmuseum.org
SUMMARY:Drone Certification Class
DESCRIPTION:Are you interested in drones? \nTake your interest to the next level with a certification! This class will give you the information you need to obtain a CFR Part 107 Unmanned Small Aircraft Systems Pilot certification. \nThis class meets for two hours twice a week\, on Saturdays from 1:30 p.m. – 3:30 p.m. and Sundays from 10:30 a.m. – 12:30 p.m. The first class is on March 16\, 2024 and the last class will be on April 20\, 2024. There will be no class on March 31. \nRegister Here \nParticipants must be registered by March 15 and must attend all ten class sessions in order to be eligible to take the CFR Part 107 Unmanned Small Aircraft Systems Pilot certification test. \nFor students ages 15 and up. Limited number of spots available\, sign up today! \nCost: $325 per student \nClick here to learn more about Drone Pilot Pathway. Contact us with questions at 303-360-5360 ext 129 or Info@WingsMuseum.org.
URL:https://wingsmuseum.org/events/drone-certification-class/2024-03-16/
LOCATION:Air & Space Museum
CATEGORIES:Education,Special Events,Workshops
ATTACH;FMTTYPE=image/jpeg:/wp-content/uploads/Drone_Resized.jpg
END:VEVENT
BEGIN:VEVENT
DTSTART;TZID=America/Denver:20240323T100000
DTEND;TZID=America/Denver:20240323T163000
DTSTAMP:20260424T024142
CREATED:20231030T220621Z
LAST-MODIFIED:20250106T225750Z
UID:3091-1711188000-1711211400@wingsmuseum.org
SUMMARY:Aviation Merit Badge Program
DESCRIPTION:Earn your Aviation Merit Badge!\nCome and learn about aviation basics. Plot your course or flying adventure without ever leaving the ground. Build a glider from a foam plate and experience the Wings Over the Rockies Flight Simulator Room. \nThe cost of the class is $25. Adults can sit in if space is available. Adults should not register for the class but must pay the museum entry fee. \nRegister Here
URL:https://wingsmuseum.org/events/aviation-merit-badge-program-march-2024/
LOCATION:Air & Space Museum
CATEGORIES:Education,Special Events
END:VEVENT
BEGIN:VEVENT
DTSTART;TZID=America/Denver:20240427T100000
DTEND;TZID=America/Denver:20240427T163000
DTSTAMP:20260424T024142
CREATED:20231030T220756Z
LAST-MODIFIED:20250106T225755Z
UID:3092-1714212000-1714235400@wingsmuseum.org
SUMMARY:Aviation Merit Badge Program
DESCRIPTION:Earn your Aviation Merit Badge!\nCome and learn about aviation basics. Plot your course or flying adventure without ever leaving the ground. Build a glider from a foam plate and experience the Wings Over the Rockies Flight Simulator Room. \nThe cost of the class is $25. Adults can sit in if space is available. Adults should not register for the class but must pay the museum entry fee. \nRegister Here
URL:https://wingsmuseum.org/events/aviation-merit-badge-program-april-2024/
LOCATION:Air & Space Museum
CATEGORIES:Education,Special Events
END:VEVENT
BEGIN:VEVENT
DTSTART;VALUE=DATE:20240528
DTEND;VALUE=DATE:20240601
DTSTAMP:20260424T024142
CREATED:20231129T233006Z
LAST-MODIFIED:20240528T150618Z
UID:3136-1716854400-1717199999@wingsmuseum.org
SUMMARY:Summer Camp: Exploring Flight
DESCRIPTION:Interested in flying? Learn about the four forces of flight\, build and fly a ton of different aircraft including models\, gliders\, paper airplanes\, parachutes\, kites and more. It’s a great way to learn more about aviation! \nRegister Here \nCAMP LOCATION: The Air & Space Museum in Denver’s Lowry neighborhood (7711 East Academy Blvd\, Denver\, CO 80230).
URL:https://wingsmuseum.org/events/summer-camp-exploring-flight/
LOCATION:Air & Space Museum
CATEGORIES:Education
ATTACH;FMTTYPE=image/gif:/wp-content/uploads/Exploring-Flight_Museum.gif
END:VEVENT
BEGIN:VEVENT
DTSTART;VALUE=DATE:20240528
DTEND;VALUE=DATE:20240601
DTSTAMP:20260424T024142
CREATED:20231129T233536Z
LAST-MODIFIED:20241112T231420Z
UID:3138-1716854400-1717199999@wingsmuseum.org
SUMMARY:Summer Camp: Space Exploration
DESCRIPTION:Based on a NASA graphic novel\, campers will design a drag device system\, learn about NASA telescopes\, space worms\, spiders and other creatures. Campers will create RoboTools\, and build a cryogenic fluid management system. \nRegister Here \nCAMP LOCATION: Exploration of Flight at Centennial Airport (13005 Wings Way\, Englewood\, CO 80112). 
URL:https://wingsmuseum.org/events/summer-camp-space-exploration-2024/
LOCATION:Exploration of Flight (Centennial Airport)
CATEGORIES:Education
ATTACH;FMTTYPE=image/gif:/wp-content/uploads/Space-Exploration_EoF.gif
END:VEVENT
BEGIN:VEVENT
DTSTART;VALUE=DATE:20240603
DTEND;VALUE=DATE:20240608
DTSTAMP:20260424T024142
CREATED:20231129T233732Z
LAST-MODIFIED:20240603T144553Z
UID:3139-1717372800-1717804799@wingsmuseum.org
SUMMARY:Summer Camp: Mission Artemis
DESCRIPTION:NASA is headed to the moon and campers will learn about what it takes to survive there and on the space station. Campers design mission patches\, model the perfect moon base\, build an Orion model and use CAD design tools to create 3D space art. \nRegister Here \nCAMP LOCATION: The Air & Space Museum in Denver’s Lowry neighborhood (7711 East Academy Blvd\, Denver\, CO 80230).
URL:https://wingsmuseum.org/events/summer-camp-mission-artemis/
LOCATION:Air & Space Museum
CATEGORIES:Education
ATTACH;FMTTYPE=image/gif:/wp-content/uploads/Mission-Artemis_Museum-1.gif
END:VEVENT
BEGIN:VEVENT
DTSTART;VALUE=DATE:20240603
DTEND;VALUE=DATE:20240608
DTSTAMP:20260424T024142
CREATED:20231129T233917Z
LAST-MODIFIED:20241113T224906Z
UID:3140-1717372800-1717804799@wingsmuseum.org
SUMMARY:Summer Camp: Skyward
DESCRIPTION:Look toward the sky… the blue sky.  Learn how airplanes\, helicopters\, and experimental aircraft fly and talk to pilots who fly them!  Aviation-related projects and flight simulators make this camp something special for young aviators. \nRegister Here \nCAMP LOCATION: Exploration of Flight at Centennial Airport (13005 Wings Way\, Englewood\, CO 80112). 
URL:https://wingsmuseum.org/events/summer-camp-skyward-2024/
LOCATION:Exploration of Flight (Centennial Airport)
CATEGORIES:Education
ATTACH;FMTTYPE=image/gif:/wp-content/uploads/Skyward_EoF.gif
END:VEVENT
BEGIN:VEVENT
DTSTART;VALUE=DATE:20240610
DTEND;VALUE=DATE:20240615
DTSTAMP:20260424T024142
CREATED:20231201T211217Z
LAST-MODIFIED:20240610T145219Z
UID:3152-1717977600-1718409599@wingsmuseum.org
SUMMARY:Scout Badge Camp
DESCRIPTION:Boy Scout Badge Camp \nIt’s a thrilling summer camp adventure for scouts.  Scouts participate in activities designed to expand their knowledge of aviation and space exploration by earning  Aviation and Space Merit Badges and the Up and Away and Shoot Nova badges. \nRegister for Boy Scouts Badge Camp \nCub Scout Badge Camp \nAdventure meets learning at Cub Scout Badge Camp! Cub Scouts earn their Up and Away\, Tech Talk\, Out of this World\, and Fearful Symmetry Nova Badges while having a blast at the museum! \nRegister for Cub Scouts Badge Camp \nThis camp is located at the Air & Space Museum in Denver (7711 East Academy Blvd\, Denver\, CO 80230).
URL:https://wingsmuseum.org/events/scout-badge-camp/
LOCATION:Air & Space Museum
CATEGORIES:Education
END:VEVENT
BEGIN:VEVENT
DTSTART;VALUE=DATE:20240610
DTEND;VALUE=DATE:20240615
DTSTAMP:20260424T024142
CREATED:20231201T211441Z
LAST-MODIFIED:20241113T224551Z
UID:3153-1717977600-1718409599@wingsmuseum.org
SUMMARY:Summer Camp: Aspiring Aviators
DESCRIPTION:This camp is sold out.  \nPlot a course for aviation adventure with pilots and professionals. Learn how to preflight an airplane\, marshall aircraft\, spot different types of planes\, learn about helicopters\, design a cross-country flight\, use flight simulators\, and more! \nCAMP LOCATION: Exploration of Flight at Centennial Airport (13005 Wings Way\, Englewood\, CO 80112). 
URL:https://wingsmuseum.org/events/summer-camp-aspiring-aviators-2024/
LOCATION:Exploration of Flight (Centennial Airport)
CATEGORIES:Education
ATTACH;FMTTYPE=image/gif:/wp-content/uploads/Aspiring-Aviators2_EoF.gif
END:VEVENT
BEGIN:VEVENT
DTSTART;VALUE=DATE:20240617
DTEND;VALUE=DATE:20240622
DTSTAMP:20260424T024142
CREATED:20231201T211723Z
LAST-MODIFIED:20241112T231409Z
UID:3154-1718582400-1719014399@wingsmuseum.org
SUMMARY:Summer Camp: Space Exploration
DESCRIPTION:Based on a NASA graphic novel\, campers will design a drag device system\, learn about NASA telescopes\, space worms\, spiders and other creatures. Campers will create RoboTools\, and build a cryogenic fluid management system. \nRegister Here \nCAMP LOCATION: The Air & Space Museum in Denver’s Lowry neighborhood (7711 East Academy Blvd\, Denver\, CO 80230).
URL:https://wingsmuseum.org/events/summer-camp-space-exploration-2-2024/
LOCATION:Air & Space Museum
CATEGORIES:Education
ATTACH;FMTTYPE=image/gif:/wp-content/uploads/Space-Exploration_Museum.gif
END:VEVENT
BEGIN:VEVENT
DTSTART;VALUE=DATE:20240617
DTEND;VALUE=DATE:20240622
DTSTAMP:20260424T024142
CREATED:20231201T211842Z
LAST-MODIFIED:20241113T224109Z
UID:3155-1718582400-1719014399@wingsmuseum.org
SUMMARY:Summer Camp: Drone Soccer
DESCRIPTION:This camp is sold out. \nLearn the thrilling\, high-flying aero game called Drone Soccer.  Campers learn to fly drones in a safe\, low-stress team environment. It’s an exciting way to learn the sport and a great way to begin a drone career! \nCAMP LOCATION: Exploration of Flight at Centennial Airport (13005 Wings Way\, Englewood\, CO 80112). 
URL:https://wingsmuseum.org/events/summer-camp-drone-soccer-2024/
LOCATION:Exploration of Flight (Centennial Airport)
CATEGORIES:Education
ATTACH;FMTTYPE=image/gif:/wp-content/uploads/Drone-Soccer_EoF-1.gif
END:VEVENT
BEGIN:VEVENT
DTSTART;VALUE=DATE:20240624
DTEND;VALUE=DATE:20240629
DTSTAMP:20260424T024142
CREATED:20231201T212013Z
LAST-MODIFIED:20241112T230852Z
UID:3156-1719187200-1719619199@wingsmuseum.org
SUMMARY:Summer Camp: Rockets & Drones
DESCRIPTION:Countdown to fun! Have a blast at this camp which features building a variety of Estes rockets and learning to fly different types of drones. Campers will learn to fly drones and launch rockets in a safe and responsible way. \nRegister Here \nCAMP LOCATION: The Air & Space Museum in Denver’s Lowry neighborhood (7711 East Academy Blvd\, Denver\, CO 80230).
URL:https://wingsmuseum.org/events/summer-camp-rockets-drones-2024/
LOCATION:Air & Space Museum
CATEGORIES:Education
ATTACH;FMTTYPE=image/gif:/wp-content/uploads/Rockets-Drones_Museum.gif
END:VEVENT
BEGIN:VEVENT
DTSTART;VALUE=DATE:20240624
DTEND;VALUE=DATE:20240629
DTSTAMP:20260424T024142
CREATED:20231201T214514Z
LAST-MODIFIED:20241113T225059Z
UID:3157-1719187200-1719619199@wingsmuseum.org
SUMMARY:Summer Camp: RoboFlight
DESCRIPTION:Embark on a high-flying adventure! Dive into the world of robotics with a variety of innovative workshops. Experience the thrill of piloting in flight simulators while discovering the dynamics of flight and honing aviation skills. \nRegister Here \nCAMP LOCATION: Exploration of Flight at Centennial Airport (13005 Wings Way\, Englewood\, CO 80112). 
URL:https://wingsmuseum.org/events/summer-camp-roboflight-2024/
LOCATION:Exploration of Flight (Centennial Airport)
CATEGORIES:Education
ATTACH;FMTTYPE=image/gif:/wp-content/uploads/RoboFlight_EoF.gif
END:VEVENT
BEGIN:VEVENT
DTSTART;VALUE=DATE:20240708
DTEND;VALUE=DATE:20240713
DTSTAMP:20260424T024142
CREATED:20231201T214621Z
LAST-MODIFIED:20241112T231226Z
UID:3158-1720396800-1720828799@wingsmuseum.org
SUMMARY:Summer Camp: RoboDrone Adventures
DESCRIPTION:Challenge accepted! Learn how to build and program a variety of LEGO robotics missions and fly amazing drone challenges. RoboDrone Adventures is a perfect choice for exploring robotic technology and having absolute fun. \nRegister Here \nCAMP LOCATION: The Air & Space Museum in Denver’s Lowry neighborhood (7711 East Academy Blvd\, Denver\, CO 80230).
URL:https://wingsmuseum.org/events/summer-camp-robodrone-adventures-2024/
LOCATION:Air & Space Museum
CATEGORIES:Education
ATTACH;FMTTYPE=image/gif:/wp-content/uploads/RoboDrone-Adventures_Museum-1.gif
END:VEVENT
BEGIN:VEVENT
DTSTART;VALUE=DATE:20240708
DTEND;VALUE=DATE:20240713
DTSTAMP:20260424T024142
CREATED:20231201T214733Z
LAST-MODIFIED:20241113T224858Z
UID:3159-1720396800-1720828799@wingsmuseum.org
SUMMARY:Summer Camp: Skyward
DESCRIPTION:Look toward the sky… the blue sky.  Learn how airplanes\, helicopters\, and experimental aircraft fly and talk to pilots who fly them!  Aviation-related projects and flight simulators make this camp something special for young aviators. \nRegister Here \nCAMP LOCATION: Exploration of Flight at Centennial Airport (13005 Wings Way\, Englewood\, CO 80112). 
URL:https://wingsmuseum.org/events/summer-camp-skyward-2024-2/
LOCATION:Exploration of Flight (Centennial Airport)
CATEGORIES:Education
ATTACH;FMTTYPE=image/gif:/wp-content/uploads/Skyward2_EoF.gif
END:VEVENT
BEGIN:VEVENT
DTSTART;VALUE=DATE:20240715
DTEND;VALUE=DATE:20240720
DTSTAMP:20260424T024142
CREATED:20231201T214845Z
LAST-MODIFIED:20241112T231613Z
UID:3160-1721001600-1721433599@wingsmuseum.org
SUMMARY:Summer Camp: Fighters & Bombers
DESCRIPTION:Boom! It’s a fast and furious fighter and bomber world. Learn more about aircraft of the past\, present\, and future. Designed for campers interested in aviation careers\, military aircraft\, or who are captivated by movies like “Top Gun: Maverick”. \nRegister Here \nCAMP LOCATION: The Air & Space Museum in Denver’s Lowry neighborhood (7711 East Academy Blvd\, Denver\, CO 80230).
URL:https://wingsmuseum.org/events/summer-camp-fighters-bombers-2024/
LOCATION:Air & Space Museum
CATEGORIES:Education
ATTACH;FMTTYPE=image/gif:/wp-content/uploads/Fighters-Bombers_Museum.gif
END:VEVENT
BEGIN:VEVENT
DTSTART;VALUE=DATE:20240715
DTEND;VALUE=DATE:20240720
DTSTAMP:20260424T024142
CREATED:20231201T214947Z
LAST-MODIFIED:20240715T151807Z
UID:3161-1721001600-1721433599@wingsmuseum.org
SUMMARY:Summer Camp: Mission Artemis
DESCRIPTION:NASA is headed to the moon and campers will learn about what it takes to survive there and on the space station. Campers design mission patches\, model the perfect moon base\, build an Orion model and use CAD design tools to create 3D space art. \nRegister Here \nCAMP LOCATION: Exploration of Flight at Centennial Airport (13005 Wings Way\, Englewood\, CO 80112). 
URL:https://wingsmuseum.org/events/summer-camp-mission-artemis-2/
LOCATION:Exploration of Flight (Centennial Airport)
CATEGORIES:Education
ATTACH;FMTTYPE=image/gif:/wp-content/uploads/Mission-Artemis_EoF.gif
END:VEVENT
BEGIN:VEVENT
DTSTART;VALUE=DATE:20240722
DTEND;VALUE=DATE:20240727
DTSTAMP:20260424T024142
CREATED:20231201T215052Z
LAST-MODIFIED:20241113T223438Z
UID:3162-1721606400-1722038399@wingsmuseum.org
SUMMARY:Summer Camp: Launchpad Robotics
DESCRIPTION:The countdown has started! Learn how to design\, build and launch model rockets using 3D printing technology to create fins\, nose cones\, and more! Campers will also program and code LEGO robotics to accomplish out-of-this-world missions! \nRegister Here \nCAMP LOCATION: The Air & Space Museum in Denver’s Lowry neighborhood (7711 East Academy Blvd\, Denver\, CO 80230).
URL:https://wingsmuseum.org/events/summer-camp-launchpad-robotics-2024/
LOCATION:Air & Space Museum
CATEGORIES:Education
ATTACH;FMTTYPE=image/gif:/wp-content/uploads/Launchpad-Robotics_Museum.gif
END:VEVENT
BEGIN:VEVENT
DTSTART;VALUE=DATE:20240722
DTEND;VALUE=DATE:20240727
DTSTAMP:20260424T024142
CREATED:20231201T215206Z
LAST-MODIFIED:20241113T224540Z
UID:3163-1721606400-1722038399@wingsmuseum.org
SUMMARY:Summer Camp: Aspiring Aviators
DESCRIPTION:This camp is sold out. \nPlot a course for aviation adventure with pilots and professionals. Learn how to preflight an airplane\, marshall aircraft\, spot different types of planes\, learn about helicopters\, design a cross-country flight\, use flight simulators\, and more! \nCAMP LOCATION: Exploration of Flight at Centennial Airport (13005 Wings Way\, Englewood\, CO 80112). 
URL:https://wingsmuseum.org/events/summer-camp-aspiring-aviators-2024-2/
LOCATION:Exploration of Flight (Centennial Airport)
CATEGORIES:Education
ATTACH;FMTTYPE=image/gif:/wp-content/uploads/Aspiring-Aviators_EoF.gif
END:VEVENT
BEGIN:VEVENT
DTSTART;VALUE=DATE:20240729
DTEND;VALUE=DATE:20240803
DTSTAMP:20260424T024142
CREATED:20231201T215313Z
LAST-MODIFIED:20241113T224846Z
UID:3164-1722211200-1722643199@wingsmuseum.org
SUMMARY:Summer Camp: Skyward
DESCRIPTION:Look toward the sky… the blue sky.  Learn how airplanes\, helicopters\, and experimental aircraft fly and talk to pilots who fly them!  Aviation-related projects and flight simulators make this camp something special for young aviators. \nRegister Here \nCAMP LOCATION: The Air & Space Museum in Denver’s Lowry neighborhood (7711 East Academy Blvd\, Denver\, CO 80230).
URL:https://wingsmuseum.org/events/summer-camp-skyward-2024-3/
LOCATION:Air & Space Museum
CATEGORIES:Education
ATTACH;FMTTYPE=image/gif:/wp-content/uploads/Skyward_Museum.gif
END:VEVENT
BEGIN:VEVENT
DTSTART;VALUE=DATE:20240729
DTEND;VALUE=DATE:20240803
DTSTAMP:20260424T024142
CREATED:20231201T215417Z
LAST-MODIFIED:20241113T223743Z
UID:3165-1722211200-1722643199@wingsmuseum.org
SUMMARY:Summer Camp: AeroTech
DESCRIPTION:It’s an incredible journey into the world of aviation and engineering! Campers will engage in thrilling challenges such as designing a paper airplane launch system\, building a rivet plane\, exploring simple electrical circuit designs and more. \nRegister Here \nCAMP LOCATION: Exploration of Flight at Centennial Airport (13005 Wings Way\, Englewood\, CO 80112). 
URL:https://wingsmuseum.org/events/summer-camp-aerotech-2024/
LOCATION:Exploration of Flight (Centennial Airport)
CATEGORIES:Education
ATTACH;FMTTYPE=image/gif:/wp-content/uploads/AeroTech_EoF.gif
END:VEVENT
BEGIN:VEVENT
DTSTART;VALUE=DATE:20240805
DTEND;VALUE=DATE:20240810
DTSTAMP:20260424T024142
CREATED:20231201T215524Z
LAST-MODIFIED:20241113T223812Z
UID:3166-1722816000-1723247999@wingsmuseum.org
SUMMARY:Summer Camp: AeroTech
DESCRIPTION:It’s an incredible journey into the world of aviation and engineering! Campers will engage in thrilling challenges such as designing a paper airplane launch system\, building a rivet plane\, exploring simple electrical circuit designs and more. \nRegister Here \nCAMP LOCATION: The Air & Space Museum in Denver’s Lowry neighborhood (7711 East Academy Blvd\, Denver\, CO 80230). \n 
URL:https://wingsmuseum.org/events/summer-camp-aerotech-2024-2/
LOCATION:Air & Space Museum
CATEGORIES:Education
ATTACH;FMTTYPE=image/gif:/wp-content/uploads/AeroTech_Museum.gif
END:VEVENT
BEGIN:VEVENT
DTSTART;VALUE=DATE:20240805
DTEND;VALUE=DATE:20240810
DTSTAMP:20260424T024142
CREATED:20231201T215629Z
LAST-MODIFIED:20241112T231400Z
UID:3167-1722816000-1723247999@wingsmuseum.org
SUMMARY:Summer Camp: Space Exploration
DESCRIPTION:Based on a NASA graphic novel\, campers will design a drag device system\, learn about NASA telescopes\, space worms\, spiders and other creatures. Campers will create RoboTools\, and build a cryogenic fluid management system. \nRegister Here \nCAMP LOCATION: Exploration of Flight at Centennial Airport (13005 Wings Way\, Englewood\, CO 80112). 
URL:https://wingsmuseum.org/events/summer-camp-space-exploration-3-2024/
LOCATION:Exploration of Flight (Centennial Airport)
CATEGORIES:Education
ATTACH;FMTTYPE=image/gif:/wp-content/uploads/Space-Exploration2_EoF.gif
END:VEVENT
BEGIN:VEVENT
DTSTART;TZID=America/Denver:20240921T100000
DTEND;TZID=America/Denver:20240921T163000
DTSTAMP:20260424T024142
CREATED:20240814T204730Z
LAST-MODIFIED:20240923T160808Z
UID:3845-1726912800-1726936200@wingsmuseum.org
SUMMARY:Aviation Merit Badge Program
DESCRIPTION:Earn your Aviation Merit Badge!\nCome and learn about aviation basics. Plot your course or flying adventure without ever leaving the ground. Build a glider from a foam plate and experience the Wings Over the Rockies Flight Simulator Room. \nThe cost of the class is $25. Please bring a sack lunch. Adults can sit in if space is available. Adults should not register for the class but must pay the museum entry fee. \nRegister Here
URL:https://wingsmuseum.org/events/aviation-merit-badge-september/
LOCATION:Air & Space Museum
CATEGORIES:Education,Special Events
END:VEVENT
BEGIN:VEVENT
DTSTART;TZID=America/Denver:20241026T100000
DTEND;TZID=America/Denver:20241026T163000
DTSTAMP:20260424T024142
CREATED:20240814T204921Z
LAST-MODIFIED:20241028T145810Z
UID:3846-1729936800-1729960200@wingsmuseum.org
SUMMARY:Aviation Merit Badge Program (Canceled)
DESCRIPTION:This event has been canceled.\nEarn your Aviation Merit Badge!\nCome and learn about aviation basics. Plot your course or flying adventure without ever leaving the ground. Build a glider from a foam plate and experience the Wings Over the Rockies Flight Simulator Room. \nThe cost of the class is $25. Please bring a sack lunch. Adults can sit in if space is available. Adults should not register for the class but must pay the museum entry fee.
URL:https://wingsmuseum.org/events/aviation-merit-badge-october/
LOCATION:Air & Space Museum
CATEGORIES:Education,Special Events
END:VEVENT
BEGIN:VEVENT
DTSTART;TZID=America/Denver:20241123T100000
DTEND;TZID=America/Denver:20241123T163000
DTSTAMP:20260424T024142
CREATED:20240814T205029Z
LAST-MODIFIED:20241125T164521Z
UID:3847-1732356000-1732379400@wingsmuseum.org
SUMMARY:Aviation Merit Badge Program
DESCRIPTION:Earn your Aviation Merit Badge!\nCome and learn about aviation basics. Plot your course or flying adventure without ever leaving the ground. Build a glider from a foam plate and experience the Wings Over the Rockies Flight Simulator Room. \nThe cost of the class is $25. Please bring a sack lunch. Adults can sit in if space is available. Adults should not register for the class but must pay the museum entry fee. \nRegister Here
URL:https://wingsmuseum.org/events/aviation-merit-badge-november/
LOCATION:Air & Space Museum
CATEGORIES:Education,Special Events
END:VEVENT
BEGIN:VEVENT
DTSTART;TZID=America/Denver:20250125T100000
DTEND;TZID=America/Denver:20250125T163000
DTSTAMP:20260424T024142
CREATED:20241231T184606Z
LAST-MODIFIED:20250120T194824Z
UID:4231-1737799200-1737822600@wingsmuseum.org
SUMMARY:Aviation Merit Badge Program (Canceled)
DESCRIPTION:Please note – This event has been cancelled. Register for the next class here.\nEarn your Aviation Merit Badge! \nCome and learn about aviation basics. Plot your course or flying adventure without ever leaving the ground. Build a glider from a foam plate and experience the Wings Over the Rockies Flight Simulator Room. \nThe cost of the class is $25. Please bring a sack lunch. Adults can sit in if space is available. Adults should not register for the class but must pay the museum entry fee.
URL:https://wingsmuseum.org/events/aviation-merit-badge-jan/
LOCATION:Air & Space Museum
CATEGORIES:Education,Special Events
END:VEVENT
BEGIN:VEVENT
DTSTART;TZID=America/Denver:20250222T100000
DTEND;TZID=America/Denver:20250222T163000
DTSTAMP:20260424T024142
CREATED:20250106T225857Z
LAST-MODIFIED:20250226T171501Z
UID:4259-1740218400-1740241800@wingsmuseum.org
SUMMARY:Aviation Merit Badge Program
DESCRIPTION:Earn your Aviation Merit Badge!\nCome and learn about aviation basics. Plot your course or flying adventure without ever leaving the ground. Build a glider from a foam plate and experience the Wings Over the Rockies Flight Simulator Room. \nThe cost of the class is $25. Please bring a sack lunch. Adults can sit in if space is available. Adults should not register for the class but must pay the museum entry fee. \nRegister Here
URL:https://wingsmuseum.org/events/aviation-merit-badge-feb/
LOCATION:Air & Space Museum
CATEGORIES:Education,Special Events
END:VEVENT
BEGIN:VEVENT
DTSTART;TZID=America/Denver:20250301T100000
DTEND;TZID=America/Denver:20250301T133000
DTSTAMP:20260424T024142
CREATED:20250205T174215Z
LAST-MODIFIED:20250605T212345Z
UID:4322-1740823200-1740835800@wingsmuseum.org
SUMMARY:Private Pilot Ground School
DESCRIPTION:Are you ready to begin flight training? Private Pilot Ground School is a comprehensive course for current and aspiring student pilots! \nThis 10-week ground school is open to high school students ages 15-18 and will cover all the areas you will be tested on for your private pilot certificate\, including airspace\, weather\, aircraft systems\, aerodynamics and more. Instruction is provided by certified flight instructors. \nClasses will take place at our Exploration of Flight campus at Centennial Airport (13005 Wings Way\, Englewood\, CO 80112). Registration closes on February 26! \nRegister Today! \n\nPricing:\nNon-Member | $400.00 per registrant\nMember | $350.00 per registrant \nPlease Note: This program includes ground training only. Students must attend all 10 classes on Saturdays from March 1 – May 3. No make-up classes are available.  \n\n 
URL:https://wingsmuseum.org/events/private-pilot-ground-school/
LOCATION:Exploration of Flight (Centennial Airport)
CATEGORIES:Education
ATTACH;FMTTYPE=image/jpeg:/wp-content/uploads/Private-Pilot-Ground-School_Resized-e1772038713450.jpg
END:VEVENT
BEGIN:VEVENT
DTSTART;TZID=America/Denver:20250322T100000
DTEND;TZID=America/Denver:20250322T163000
DTSTAMP:20260424T024142
CREATED:20250106T230008Z
LAST-MODIFIED:20250324T161219Z
UID:4260-1742637600-1742661000@wingsmuseum.org
SUMMARY:Aviation Merit Badge Program
DESCRIPTION:Earn your Aviation Merit Badge!\nCome and learn about aviation basics. Plot your course or flying adventure without ever leaving the ground. Build a glider from a foam plate and experience the Wings Over the Rockies Flight Simulator Room. \nThe cost of the class is $25. Please bring a sack lunch. Adults can sit in if space is available. Adults should not register for the class but must pay the museum entry fee. \nRegister Here
URL:https://wingsmuseum.org/events/aviation-merit-badge-march/
LOCATION:Air & Space Museum
CATEGORIES:Education,Special Events
END:VEVENT
END:VCALENDAR