BEGIN:VCALENDAR
VERSION:2.0
PRODID:-//Wings Over The Rockies - ECPv6.15.20//NONSGML v1.0//EN
CALSCALE:GREGORIAN
METHOD:PUBLISH
X-WR-CALNAME:Wings Over The Rockies
X-ORIGINAL-URL:https://wingsmuseum.org
X-WR-CALDESC:Events for Wings Over The Rockies
REFRESH-INTERVAL;VALUE=DURATION:PT1H
X-Robots-Tag:noindex
X-PUBLISHED-TTL:PT1H
BEGIN:VTIMEZONE
TZID:America/Denver
BEGIN:DAYLIGHT
TZOFFSETFROM:-0700
TZOFFSETTO:-0600
TZNAME:MDT
DTSTART:20240310T090000
END:DAYLIGHT
BEGIN:STANDARD
TZOFFSETFROM:-0600
TZOFFSETTO:-0700
TZNAME:MST
DTSTART:20241103T080000
END:STANDARD
BEGIN:DAYLIGHT
TZOFFSETFROM:-0700
TZOFFSETTO:-0600
TZNAME:MDT
DTSTART:20250309T090000
END:DAYLIGHT
BEGIN:STANDARD
TZOFFSETFROM:-0600
TZOFFSETTO:-0700
TZNAME:MST
DTSTART:20251102T080000
END:STANDARD
BEGIN:DAYLIGHT
TZOFFSETFROM:-0700
TZOFFSETTO:-0600
TZNAME:MDT
DTSTART:20260308T090000
END:DAYLIGHT
BEGIN:STANDARD
TZOFFSETFROM:-0600
TZOFFSETTO:-0700
TZNAME:MST
DTSTART:20261101T080000
END:STANDARD
BEGIN:DAYLIGHT
TZOFFSETFROM:-0700
TZOFFSETTO:-0600
TZNAME:MDT
DTSTART:20270314T090000
END:DAYLIGHT
BEGIN:STANDARD
TZOFFSETFROM:-0600
TZOFFSETTO:-0700
TZNAME:MST
DTSTART:20271107T080000
END:STANDARD
END:VTIMEZONE
BEGIN:VEVENT
DTSTART;TZID=America/Denver:20250920T100000
DTEND;TZID=America/Denver:20250920T140000
DTSTAMP:20260421T200551
CREATED:20250724T211257Z
LAST-MODIFIED:20250923T150813Z
UID:4859-1758362400-1758376800@wingsmuseum.org
SUMMARY:Cockpit Demo Day
DESCRIPTION:Get an up close look inside select aircraft at the museum and learn all about the history of the aircraft\, instruments and controls! \nFeatured Aircraft in September*: \n\nGeneral Dynamics FB-111A Aardvark\nNorth American F-86H Sabre\nAlexander Eaglerock\nCessna O-2A Skymaster (Wheelchair Accessible)\nRotoway Scorpion II (Wheelchair Accessible)\n\nPre-Purchase Tickets \n*Featured aircraft are subject to change. 
URL:https://wingsmuseum.org/events/cockpit-demo-day-sept/
LOCATION:Air & Space Museum
CATEGORIES:Special Events
ATTACH;FMTTYPE=image/jpeg:/wp-content/uploads/Cockpit-Demo-Day_Resized-Sept.jpg
END:VEVENT
BEGIN:VEVENT
DTSTART;TZID=America/Denver:20251108T100000
DTEND;TZID=America/Denver:20251108T140000
DTSTAMP:20260421T200551
CREATED:20250923T201400Z
LAST-MODIFIED:20250930T161520Z
UID:5069-1762596000-1762610400@wingsmuseum.org
SUMMARY:Cockpit Demo Day
DESCRIPTION:Get an up close look inside select aircraft at the museum and learn all about the history of the aircraft\, instruments and controls! \nFeatured Aircraft in November*: \n\nNorth American F-100D Super Sabre\nBell UH-1M Iroquois “Huey” (Wheelchair Accessible)\nGrumman EA-6B Prowler\nAeromarine Skyote\nLockheed T-33A T-Bird\n\nAdmission is free on Saturday\, November 8 for SCFD Free Day! \nPre-Register \n*Featured aircraft are subject to change. 
URL:https://wingsmuseum.org/events/cockpit-demo-day-nov/
LOCATION:Air & Space Museum
CATEGORIES:Special Events
ATTACH;FMTTYPE=image/jpeg:/wp-content/uploads/Cockpit-Demo-Day-November_Resized.jpg
END:VEVENT
BEGIN:VEVENT
DTSTART;TZID=America/Denver:20251108T100000
DTEND;TZID=America/Denver:20251108T170000
DTSTAMP:20260421T200551
CREATED:20250919T212656Z
LAST-MODIFIED:20250925T171554Z
UID:5047-1762596000-1762621200@wingsmuseum.org
SUMMARY:SCFD Free Day at the Museum
DESCRIPTION:Visit the Air & Space Museum on SCFD Free Day! Receive free admission on Saturday\, November 8 and bring your friends and family to share in the wonders of aviation and space exploration. Get an up close look inside the cockpits of select aircraft during Cockpit Demo Day! \nDon’t miss this opportunity to see the newest aircraft in our collection\, the AV-8B Harrier II+! Learn how this fast\, flexible and fierce aircraft became a legend in close air support for the U.S. Marines.  \nPre-Register for Free Day
URL:https://wingsmuseum.org/events/scfd-free-day-museum/
LOCATION:Air & Space Museum
CATEGORIES:Discount Days,Special Events
ATTACH;FMTTYPE=image/jpeg:/wp-content/uploads/SCFD-Free-Day-Museum-September_Resized.jpg
END:VEVENT
BEGIN:VEVENT
DTSTART;TZID=America/Denver:20251213T100000
DTEND;TZID=America/Denver:20251213T140000
DTSTAMP:20260421T200551
CREATED:20251113T155002Z
LAST-MODIFIED:20260109T164630Z
UID:5221-1765620000-1765634400@wingsmuseum.org
SUMMARY:Cockpit Demo Day
DESCRIPTION:Get an up close look inside select aircraft at the museum and learn all about the history of the aircraft\, instruments and controls! \nFeatured Aircraft in December*: \n\nMikoyan-Gurevich MiG-23MLD Flogger\nRepublic RF-84K Thunderflash\nSteen Skybolt\nBede BD-5*\nLockheed F-104C Starfighter\n\nPre-Purchase Tickets \n*Featured aircraft are subject to change. 
URL:https://wingsmuseum.org/events/cockpit-demo-day-dec25/
LOCATION:Air & Space Museum
CATEGORIES:Special Events
ATTACH;FMTTYPE=image/jpeg:/wp-content/uploads/DSC06976-scaled.jpg
END:VEVENT
BEGIN:VEVENT
DTSTART;TZID=America/Denver:20251213T100000
DTEND;TZID=America/Denver:20251213T140000
DTSTAMP:20260421T200551
CREATED:20251003T213144Z
LAST-MODIFIED:20251209T161025Z
UID:5125-1765620000-1765634400@wingsmuseum.org
SUMMARY:Santa in the Hangar at the Museum
DESCRIPTION:Bring the whole family for a fun-filled holiday celebration at Wings Over the Rockies Air & Space Museum.  Arrive as early as 9:30 a.m. to park and grab your spot outside under the B-52. Santa is scheduled to arrive by Helicopter between 10 a.m. and 10:15 a.m.  Festive activities\, magical moments and memories await! \n\nMeet Santa & Mrs. Claus\nHoliday-themed Activities\nScience Demonstrations\nSelect Open Cockpits\n\nMikoyan-Gurevich MiG-23MLD Flogger\nRepublic RF-84K Thunderflash\nSteen Skybolt\nBede BD-5*\nLockheed F-104C Starfighter\n\n\nDiscovery Carts\nAnd much more!\n\nPre-Purchase Tickets \nYou can also see Santa at our second location\, Exploration of Flight at Centennial Airport\, on Sunday at 10:00 a.m. Click here to learn more!
URL:https://wingsmuseum.org/events/santa-in-the-hangar-museum/
LOCATION:Air & Space Museum
CATEGORIES:Holiday Event,Kids Activities,Special Events
ATTACH;FMTTYPE=image/jpeg:/wp-content/uploads/7272-005-scaled.jpg
END:VEVENT
BEGIN:VEVENT
DTSTART;TZID=America/Denver:20260117T100000
DTEND;TZID=America/Denver:20260117T140000
DTSTAMP:20260421T200551
CREATED:20251209T225509Z
LAST-MODIFIED:20260107T190559Z
UID:5268-1768644000-1768658400@wingsmuseum.org
SUMMARY:Cockpit Demo Day
DESCRIPTION:Get an up close look inside select aircraft at the museum and learn all about the history of the aircraft\, instruments and controls! \nFeatured Aircraft in January*: \n\nF-86H Sabre\nB-57 Canberra\nPaser-Bushby Mustang II (Wheelchair accessible)\nLTV A-7D Corsair II\nAV-8B+ Harrier II\n\nPre-Purchase Tickets \n*Featured aircraft are subject to change. 
URL:https://wingsmuseum.org/events/cockpit-demo-day-jan26/
LOCATION:Air & Space Museum
CATEGORIES:Special Events
ATTACH;FMTTYPE=image/jpeg:/wp-content/uploads/DSC00849-e1775588818901.jpg
END:VEVENT
BEGIN:VEVENT
DTSTART;TZID=America/Denver:20260117T100000
DTEND;TZID=America/Denver:20260117T170000
DTSTAMP:20260421T200551
CREATED:20251219T221600Z
LAST-MODIFIED:20251219T221753Z
UID:5325-1768644000-1768669200@wingsmuseum.org
SUMMARY:SCFD Free Day at the Museum
DESCRIPTION:Enjoy free admission at Wings Air & Space Museum on Saturday\, January 17\, and bring the whole family for a day of discovery\, imagination and fun. Step into the world of aviation and space exploration as you get an up-close look inside the cockpits of select aircraft during Cockpit Demo Day\, a rare chance to see how pilots experience flight. \nBe sure to explore the restored Mikoyan-Gurevich MiG-23MLD Flogger\, a powerful Cold War-era jet that captures the drama\, innovation\, and speed of aviation history. Learn its story and what makes it unique. \nExciting exhibits. Big aircraft. Inspiring stories. This is a day your family won’t want to miss. \nPre-Register for Free Day
URL:https://wingsmuseum.org/events/scfd-free-day-at-the-museum-jan-17/
LOCATION:Air & Space Museum
CATEGORIES:Discount Days,Special Events
ATTACH;FMTTYPE=image/jpeg:/wp-content/uploads/SCFD-Free-Day-June-2025-38.jpg
END:VEVENT
BEGIN:VEVENT
DTSTART;TZID=America/Denver:20260221T100000
DTEND;TZID=America/Denver:20260221T140000
DTSTAMP:20260421T200551
CREATED:20260109T171434Z
LAST-MODIFIED:20260304T224647Z
UID:5389-1771668000-1771682400@wingsmuseum.org
SUMMARY:Cockpit Demo Day
DESCRIPTION:Get an up-close look inside select aircraft at the museum and learn about its history\, instruments\, controls and more! \nFeatured Aircraft in February*: \n\nFB-111A Aardvark\nO-2A Skymaster (wheelchair accessible)\nRotorWay Scorpion II Helicopter (wheelchair accessible)\nStar Wars T-65 X-Wing\nF-105D Thunderchief\n\nPre-Purchase Tickets \n*Featured aircraft are subject to change. 
URL:https://wingsmuseum.org/events/cockpit-demo-day-feb26/
LOCATION:Air & Space Museum
CATEGORIES:Special Events
ATTACH;FMTTYPE=image/jpeg:/wp-content/uploads/Cockpit-Demo-Day-April-2024_Resized-e1767978024847.jpg
END:VEVENT
BEGIN:VEVENT
DTSTART;TZID=America/Denver:20260321T100000
DTEND;TZID=America/Denver:20260321T140000
DTSTAMP:20260421T200551
CREATED:20260206T175746Z
LAST-MODIFIED:20260323T163251Z
UID:5544-1774087200-1774101600@wingsmuseum.org
SUMMARY:Cockpit Demo Day
DESCRIPTION:Get an up-close look inside select aircraft at the museum and learn about its history\, instruments\, controls and more! \nFeatured Aircraft in March*: \n\nVelocity Airplane\nAlexander Eaglerock Biplane\nAlouette III Helicopter (wheelchair accessible)\nF-102 Delta Dagger\nT-33 Shooting Star\n\nPre-Purchase Tickets \n*Featured aircraft are subject to change. 
URL:https://wingsmuseum.org/events/cockpit-demo-day-mar26/
LOCATION:Air & Space Museum
CATEGORIES:Special Events
ATTACH;FMTTYPE=image/jpeg:/wp-content/uploads/Cockpit-Demo-Day-March-25_Resized.jpg
END:VEVENT
BEGIN:VEVENT
DTSTART;TZID=America/Denver:20260418T100000
DTEND;TZID=America/Denver:20260418T140000
DTSTAMP:20260421T200551
CREATED:20260304T231140Z
LAST-MODIFIED:20260420T153628Z
UID:5677-1776506400-1776520800@wingsmuseum.org
SUMMARY:Cockpit Demo Day
DESCRIPTION:Get an up-close look inside select aircraft at the museum and learn about its history\, instruments\, controls and more! \nFeatured Aircraft in April*: \n\nSonic Arrow Jet Car\nF-100D Super Sabre\nUH-1M Huey\nF-104C Starfighter\nMiG-23 Flogger\n\nPre-Purchase Tickets \n*Featured aircraft are subject to change. 
URL:https://wingsmuseum.org/events/cockpit-demo-day-apr26/
LOCATION:Air & Space Museum
CATEGORIES:Special Events
ATTACH;FMTTYPE=image/gif:/wp-content/uploads/Cockpit-Demo-Day-February-24_Resized-e1772666196766.gif
END:VEVENT
BEGIN:VEVENT
DTSTART;TZID=America/Denver:20260516T100000
DTEND;TZID=America/Denver:20260516T140000
DTSTAMP:20260421T200551
CREATED:20260415T222223Z
LAST-MODIFIED:20260420T153936Z
UID:5849-1778925600-1778940000@wingsmuseum.org
SUMMARY:Cockpit Demo Day
DESCRIPTION:Get an up-close look inside select aircraft at the museum and learn about its history\, instruments\, controls and more! \nFeatured Aircraft in May*: \n\nSteen Skybolt\nBede BD-5 (wheelchair accessible)\nEA-6B Prowler\nMurray Model T Helicopter (wheelchair accessible)\nRF-84K Thunderflash\n\nPre-Purchase Tickets \n*Featured aircraft are subject to change. 
URL:https://wingsmuseum.org/events/cockpit-demo-day/
LOCATION:Air & Space Museum
CATEGORIES:Special Events
ATTACH;FMTTYPE=image/jpeg:/wp-content/uploads/DSC01049-1.jpg
END:VEVENT
END:VCALENDAR