BEGIN:VCALENDAR
VERSION:2.0
PRODID:-//Wings Over The Rockies - ECPv6.15.20//NONSGML v1.0//EN
CALSCALE:GREGORIAN
METHOD:PUBLISH
X-ORIGINAL-URL:https://wingsmuseum.org
X-WR-CALDESC:Events for Wings Over The Rockies
REFRESH-INTERVAL;VALUE=DURATION:PT1H
X-Robots-Tag:noindex
X-PUBLISHED-TTL:PT1H
BEGIN:VTIMEZONE
TZID:America/Denver
BEGIN:DAYLIGHT
TZOFFSETFROM:-0700
TZOFFSETTO:-0600
TZNAME:MDT
DTSTART:20250309T090000
END:DAYLIGHT
BEGIN:STANDARD
TZOFFSETFROM:-0600
TZOFFSETTO:-0700
TZNAME:MST
DTSTART:20251102T080000
END:STANDARD
BEGIN:DAYLIGHT
TZOFFSETFROM:-0700
TZOFFSETTO:-0600
TZNAME:MDT
DTSTART:20260308T090000
END:DAYLIGHT
BEGIN:STANDARD
TZOFFSETFROM:-0600
TZOFFSETTO:-0700
TZNAME:MST
DTSTART:20261101T080000
END:STANDARD
BEGIN:DAYLIGHT
TZOFFSETFROM:-0700
TZOFFSETTO:-0600
TZNAME:MDT
DTSTART:20270314T090000
END:DAYLIGHT
BEGIN:STANDARD
TZOFFSETFROM:-0600
TZOFFSETTO:-0700
TZNAME:MST
DTSTART:20271107T080000
END:STANDARD
END:VTIMEZONE
BEGIN:VEVENT
DTSTART;TZID=America/Denver:20261114T100000
DTEND;TZID=America/Denver:20261114T170000
DTSTAMP:20260419T120252
CREATED:20251215T181005Z
LAST-MODIFIED:20251215T181005Z
UID:5309-1794650400-1794675600@wingsmuseum.org
SUMMARY:Air & Space Museum Closure
DESCRIPTION:The Air & Space Museum in Denver is closed on Saturday\, November 14\, 2026\, for a private event. We apologize for any inconvenience. Plan your next visit. \n 
URL:https://wingsmuseum.org/events/air-space-museum-closure-19/
LOCATION:Air & Space Museum
CATEGORIES:Closings/Delays,Important Notices
END:VEVENT
END:VCALENDAR