BEGIN:VCALENDAR
VERSION:2.0
PRODID:-//Wings Over The Rockies - ECPv6.15.20//NONSGML v1.0//EN
CALSCALE:GREGORIAN
METHOD:PUBLISH
X-ORIGINAL-URL:https://wingsmuseum.org
X-WR-CALDESC:Events for Wings Over The Rockies
REFRESH-INTERVAL;VALUE=DURATION:PT1H
X-Robots-Tag:noindex
X-PUBLISHED-TTL:PT1H
BEGIN:VTIMEZONE
TZID:America/Denver
BEGIN:DAYLIGHT
TZOFFSETFROM:-0700
TZOFFSETTO:-0600
TZNAME:MDT
DTSTART:20230312T090000
END:DAYLIGHT
BEGIN:STANDARD
TZOFFSETFROM:-0600
TZOFFSETTO:-0700
TZNAME:MST
DTSTART:20231105T080000
END:STANDARD
BEGIN:DAYLIGHT
TZOFFSETFROM:-0700
TZOFFSETTO:-0600
TZNAME:MDT
DTSTART:20240310T090000
END:DAYLIGHT
BEGIN:STANDARD
TZOFFSETFROM:-0600
TZOFFSETTO:-0700
TZNAME:MST
DTSTART:20241103T080000
END:STANDARD
BEGIN:DAYLIGHT
TZOFFSETFROM:-0700
TZOFFSETTO:-0600
TZNAME:MDT
DTSTART:20250309T090000
END:DAYLIGHT
BEGIN:STANDARD
TZOFFSETFROM:-0600
TZOFFSETTO:-0700
TZNAME:MST
DTSTART:20251102T080000
END:STANDARD
END:VTIMEZONE
BEGIN:VEVENT
DTSTART;VALUE=DATE:20240528
DTEND;VALUE=DATE:20240601
DTSTAMP:20260423T224952
CREATED:20231129T233006Z
LAST-MODIFIED:20240528T150618Z
UID:3136-1716854400-1717199999@wingsmuseum.org
SUMMARY:Summer Camp: Exploring Flight
DESCRIPTION:Interested in flying? Learn about the four forces of flight\, build and fly a ton of different aircraft including models\, gliders\, paper airplanes\, parachutes\, kites and more. It’s a great way to learn more about aviation! \nRegister Here \nCAMP LOCATION: The Air & Space Museum in Denver’s Lowry neighborhood (7711 East Academy Blvd\, Denver\, CO 80230).
URL:https://wingsmuseum.org/events/summer-camp-exploring-flight/
LOCATION:Air & Space Museum
CATEGORIES:Education
ATTACH;FMTTYPE=image/gif:/wp-content/uploads/Exploring-Flight_Museum.gif
END:VEVENT
BEGIN:VEVENT
DTSTART;VALUE=DATE:20240528
DTEND;VALUE=DATE:20240601
DTSTAMP:20260423T224952
CREATED:20231129T233536Z
LAST-MODIFIED:20241112T231420Z
UID:3138-1716854400-1717199999@wingsmuseum.org
SUMMARY:Summer Camp: Space Exploration
DESCRIPTION:Based on a NASA graphic novel\, campers will design a drag device system\, learn about NASA telescopes\, space worms\, spiders and other creatures. Campers will create RoboTools\, and build a cryogenic fluid management system. \nRegister Here \nCAMP LOCATION: Exploration of Flight at Centennial Airport (13005 Wings Way\, Englewood\, CO 80112). 
URL:https://wingsmuseum.org/events/summer-camp-space-exploration-2024/
LOCATION:Exploration of Flight (Centennial Airport)
CATEGORIES:Education
ATTACH;FMTTYPE=image/gif:/wp-content/uploads/Space-Exploration_EoF.gif
END:VEVENT
END:VCALENDAR