BEGIN:VCALENDAR
VERSION:2.0
PRODID:-//Wings Over The Rockies - ECPv6.15.20//NONSGML v1.0//EN
CALSCALE:GREGORIAN
METHOD:PUBLISH
X-WR-CALNAME:Wings Over The Rockies
X-ORIGINAL-URL:https://wingsmuseum.org
X-WR-CALDESC:Events for Wings Over The Rockies
REFRESH-INTERVAL;VALUE=DURATION:PT1H
X-Robots-Tag:noindex
X-PUBLISHED-TTL:PT1H
BEGIN:VTIMEZONE
TZID:America/Denver
BEGIN:DAYLIGHT
TZOFFSETFROM:-0700
TZOFFSETTO:-0600
TZNAME:MDT
DTSTART:20230312T090000
END:DAYLIGHT
BEGIN:STANDARD
TZOFFSETFROM:-0600
TZOFFSETTO:-0700
TZNAME:MST
DTSTART:20231105T080000
END:STANDARD
BEGIN:DAYLIGHT
TZOFFSETFROM:-0700
TZOFFSETTO:-0600
TZNAME:MDT
DTSTART:20240310T090000
END:DAYLIGHT
BEGIN:STANDARD
TZOFFSETFROM:-0600
TZOFFSETTO:-0700
TZNAME:MST
DTSTART:20241103T080000
END:STANDARD
BEGIN:DAYLIGHT
TZOFFSETFROM:-0700
TZOFFSETTO:-0600
TZNAME:MDT
DTSTART:20250309T090000
END:DAYLIGHT
BEGIN:STANDARD
TZOFFSETFROM:-0600
TZOFFSETTO:-0700
TZNAME:MST
DTSTART:20251102T080000
END:STANDARD
END:VTIMEZONE
BEGIN:VEVENT
DTSTART;TZID=America/Denver:20240716T180000
DTEND;TZID=America/Denver:20240716T190000
DTSTAMP:20260423T095749
CREATED:20240322T171112Z
LAST-MODIFIED:20250114T165238Z
UID:3528-1721152800-1721156400@wingsmuseum.org
SUMMARY:Wings Aerospace Exploration Parent/Family Info Night
DESCRIPTION:Full STEAM Ahead – Immerse Your Student into Aerospace!\nJoin us for an informational session to learn about Wings Aerospace Exploration (WAE)\, a hands-on enrichment program for students in grades 6-12 from the team at Wings Over the Rockies™. This meeting will take place at Exploration of Flight at Centennial Airport (13005 Wings Way\, Englewood\, CO 80112). \nRegister Here \nWAE students will have the opportunity to explore the wonders of flight\, engage with industry professionals\, and gain valuable skills for future careers in aerospace. The program includes building and operating RC airplanes\, drones and robotics\, as well as coding\, rocketry and LOTS of other aviation and space related subjects. Wings Aerospace Exploration is an enrichment program and complements but does not take the place of an accredited educational institution. Click here to learn more about the program. \nWings is thrilled to announce the expansion of the WAE pathway to the Exploration of Flight campus at Centennial Airport! For this upcoming 2024/2025 school year\, WAE – Centennial will be open to high school students (grades 9-12) and focus on two primary pathways – Drone Pilot Course and Private Pilot Course. Each of the pathways will prepare students to become certified by the FAA. Students in the Drone Pilot Pathway will immerse themselves in the attainment of industry certifications and will have support from at least four industry professionals as mentors\, flight instructors and career coaches. The Private Pilot Pathway will provide students with the basic skills to prepare them to become Private Pilots\, including flight simulators\, ground school\, airport operations and more. \nQuestions\, please contact:\nProgram Coordinator – Nedra Hall 303.360.5360 ext 125\nNHall@WingsMuseum.org
URL:https://wingsmuseum.org/events/wae-parent-night-2024-4/
LOCATION:Exploration of Flight (Centennial Airport)
CATEGORIES:Educational Events,Special Events,Wings Aerospace Exploration Events
ATTACH;FMTTYPE=image/jpeg:/wp-content/uploads/WAE-Parent-Night_Resized-e1769537662754.jpg
END:VEVENT
END:VCALENDAR