BEGIN:VCALENDAR
VERSION:2.0
PRODID:-//Wings Over The Rockies - ECPv6.15.20//NONSGML v1.0//EN
CALSCALE:GREGORIAN
METHOD:PUBLISH
X-ORIGINAL-URL:https://wingsmuseum.org
X-WR-CALDESC:Events for Wings Over The Rockies
REFRESH-INTERVAL;VALUE=DURATION:PT1H
X-Robots-Tag:noindex
X-PUBLISHED-TTL:PT1H
BEGIN:VTIMEZONE
TZID:America/Denver
BEGIN:DAYLIGHT
TZOFFSETFROM:-0700
TZOFFSETTO:-0600
TZNAME:MDT
DTSTART:20240310T090000
END:DAYLIGHT
BEGIN:STANDARD
TZOFFSETFROM:-0600
TZOFFSETTO:-0700
TZNAME:MST
DTSTART:20241103T080000
END:STANDARD
BEGIN:DAYLIGHT
TZOFFSETFROM:-0700
TZOFFSETTO:-0600
TZNAME:MDT
DTSTART:20250309T090000
END:DAYLIGHT
BEGIN:STANDARD
TZOFFSETFROM:-0600
TZOFFSETTO:-0700
TZNAME:MST
DTSTART:20251102T080000
END:STANDARD
BEGIN:DAYLIGHT
TZOFFSETFROM:-0700
TZOFFSETTO:-0600
TZNAME:MDT
DTSTART:20260308T090000
END:DAYLIGHT
BEGIN:STANDARD
TZOFFSETFROM:-0600
TZOFFSETTO:-0700
TZNAME:MST
DTSTART:20261101T080000
END:STANDARD
END:VTIMEZONE
BEGIN:VEVENT
DTSTART;VALUE=DATE:20250707
DTEND;VALUE=DATE:20250712
DTSTAMP:20260421T124628
CREATED:20241112T231346Z
LAST-MODIFIED:20250206T232756Z
UID:4117-1751846400-1752278399@wingsmuseum.org
SUMMARY:Summer Camp: Space Exploration
DESCRIPTION:Campers will design a drag device system based on NASA graphic novels and learn about NASA telescopes\, planetary life and space creatures. Campers will build a model lunar habitat and robotools. \nRegister Here \nCAMP LOCATION: The Air & Space Museum in Denver’s Lowry neighborhood (7711 East Academy Blvd\, Denver\, CO 80230).
URL:https://wingsmuseum.org/events/summer-camp-space-exploration/
LOCATION:Air & Space Museum
CATEGORIES:Education
ATTACH;FMTTYPE=image/gif:/wp-content/uploads/Space-Exploration_Lowry.gif
END:VEVENT
BEGIN:VEVENT
DTSTART;VALUE=DATE:20250707
DTEND;VALUE=DATE:20250712
DTSTAMP:20260421T124628
CREATED:20241113T224658Z
LAST-MODIFIED:20250313T203425Z
UID:4126-1751846400-1752278399@wingsmuseum.org
SUMMARY:Summer Camp: Aspiring Aviators
DESCRIPTION:This camp is sold out – click here to join the waitlist. \nPlot a course for aviation adventure with pilots and professionals. Learn how to preflight an airplane\, marshall aircraft\, spot different types of planes\, learn about helicopters\, design a cross-country flight\, use flight simulators and more! \nCAMP LOCATION: Exploration of Flight at Centennial Airport (13005 Wings Way\, Englewood\, CO 80112). 
URL:https://wingsmuseum.org/events/summer-camp-aspiring-aviators-2/
LOCATION:Exploration of Flight (Centennial Airport)
CATEGORIES:Education
ATTACH;FMTTYPE=image/jpeg:/wp-content/uploads/Aspiring-Aviators-2.jpg
END:VEVENT
BEGIN:VEVENT
DTSTART;VALUE=DATE:20250714
DTEND;VALUE=DATE:20250719
DTSTAMP:20260421T124628
CREATED:20241112T231601Z
LAST-MODIFIED:20250507T152901Z
UID:4118-1752451200-1752883199@wingsmuseum.org
SUMMARY:Summer Camp: Fighters & Bombers
DESCRIPTION:This camp is sold out – click here to join the waitlist. \nBoom! It’s a fast and furious fighter and bomber world. Learn more about aircraft of the past\, present and future. Designed for campers interested in aviation careers\, military aircraft\, or who are captivated by movies like “Top Gun: Maverick”. \nCAMP LOCATION: The Air & Space Museum in Denver’s Lowry neighborhood (7711 East Academy Blvd\, Denver\, CO 80230).
URL:https://wingsmuseum.org/events/summer-camp-fighters-bombers/
LOCATION:Air & Space Museum
CATEGORIES:Education
ATTACH;FMTTYPE=image/jpeg:/wp-content/uploads/Fighters-Bombers_Lowry_Resized-e1769540070502.jpg
END:VEVENT
BEGIN:VEVENT
DTSTART;VALUE=DATE:20250714
DTEND;VALUE=DATE:20250719
DTSTAMP:20260421T124628
CREATED:20241113T225040Z
LAST-MODIFIED:20250604T142513Z
UID:4128-1752451200-1752883199@wingsmuseum.org
SUMMARY:Summer Camp: RoboFlight
DESCRIPTION:This camp is sold out – click here to join the waitlist. \nEmbark on a high-flying adventure! Dive into the world of robotics with a variety of innovative workshops. Experience the thrill of piloting in flight simulators while discovering the dynamics of flight and honing aviation skills. \nCAMP LOCATION: Exploration of Flight at Centennial Airport (13005 Wings Way\, Englewood\, CO 80112). 
URL:https://wingsmuseum.org/events/summer-camp-roboflight/
LOCATION:Exploration of Flight (Centennial Airport)
CATEGORIES:Education
ATTACH;FMTTYPE=image/jpeg:/wp-content/uploads/RoboFlight_Resized-e1769541181145.jpg
END:VEVENT
BEGIN:VEVENT
DTSTART;VALUE=DATE:20250721
DTEND;VALUE=DATE:20250726
DTSTAMP:20260421T124628
CREATED:20241113T223237Z
LAST-MODIFIED:20250226T182252Z
UID:4119-1753056000-1753487999@wingsmuseum.org
SUMMARY:Summer Camp: Launchpad Robotics
DESCRIPTION:This camp is sold out – click here to join the waitlist. \nThe countdown has started! Learn how to design\, build and launch model rockets using 3D printing technology to create fins\, nose cones and more! Campers will also program and code LEGO robotics to accomplish out-of-this-world missions! \nCAMP LOCATION: The Air & Space Museum in Denver’s Lowry neighborhood (7711 East Academy Blvd\, Denver\, CO 80230).
URL:https://wingsmuseum.org/events/summer-camp-launchpad-robotics/
LOCATION:Air & Space Museum
CATEGORIES:Education
ATTACH;FMTTYPE=image/jpeg:/wp-content/uploads/Launchpad-Robotics_Lowry.jpg
END:VEVENT
BEGIN:VEVENT
DTSTART;VALUE=DATE:20250721
DTEND;VALUE=DATE:20250726
DTSTAMP:20260421T124628
CREATED:20241113T225229Z
LAST-MODIFIED:20250206T232416Z
UID:4129-1753056000-1753487999@wingsmuseum.org
SUMMARY:Summer Camp: X-Planes
DESCRIPTION:X marks the spot when it comes to experimental aircraft or X-planes. These unique planes are part science fiction and part aerospace design for the future. Campers will build their own X-plane gliders and more. \nRegister Here \nCAMP LOCATION: Exploration of Flight at Centennial Airport (13005 Wings Way\, Englewood\, CO 80112). 
URL:https://wingsmuseum.org/events/summer-camp-x-planes-2/
LOCATION:Exploration of Flight (Centennial Airport)
CATEGORIES:Education
ATTACH;FMTTYPE=image/jpeg:/wp-content/uploads/X-Planes_EoF.jpg
END:VEVENT
BEGIN:VEVENT
DTSTART;TZID=America/Denver:20250723T180000
DTEND;TZID=America/Denver:20250723T200000
DTSTAMP:20260421T124628
CREATED:20250612T205729Z
LAST-MODIFIED:20250728T143848Z
UID:4639-1753293600-1753300800@wingsmuseum.org
SUMMARY:Wings Aerospace Exploration Parent/Family Info Night
DESCRIPTION:Full STEAM Ahead – Immerse Your Student into Aerospace!\nJoin us for an informational session to learn about Wings Aerospace Exploration (WAE)\, a hands-on enrichment program for students in grades 6-12 from the team at Wings Over the Rockies™. During this session\, we will provide a program overview\, introduce our staff and instructors\, share stories from current and past students and answer your questions! This meeting will take place at the Air & Space Museum in Denver at 7711 East Academy Blvd\, Denver\, CO 80230. \nRegister Here \nWings is thrilled to announce the expansion of the WAE pathway at our Exploration of Flight campus at Centennial Airport to include middle school classes! For this upcoming 2025/2026 school year\, WAE Centennial will be open to middle school and high school students (grades 6-12). \nWAE students have the opportunity to explore the wonders of flight\, engage with industry professionals\, and gain valuable skills for future careers in aerospace. The program includes building and operating RC airplanes\, drones and robotics\, as well as coding\, rocketry and LOTS of other aviation and space related subjects. Wings Aerospace Exploration is an enrichment program and complements but does not take the place of an accredited educational institution. \nQuestions? Please contact:\nNedra Hall – Program Coordinator\, 303.360.5360 ext 125\nWingsEducation@WingsMuseum.org
URL:https://wingsmuseum.org/events/wae-parent-night-7/
LOCATION:Air & Space Museum
CATEGORIES:Education,Special Events,Wings Aerospace Exploration Events
ATTACH;FMTTYPE=image/jpeg:/wp-content/uploads/WAE-Parent-Night_April-Lowry.jpg
END:VEVENT
BEGIN:VEVENT
DTSTART;TZID=America/Denver:20250724T180000
DTEND;TZID=America/Denver:20250724T200000
DTSTAMP:20260421T124628
CREATED:20250612T205942Z
LAST-MODIFIED:20250728T143904Z
UID:4640-1753380000-1753387200@wingsmuseum.org
SUMMARY:Wings Aerospace Exploration Parent/Family Info Night
DESCRIPTION:Full STEAM Ahead – Immerse Your Student into Aerospace!\nJoin us for an informational session to learn about Wings Aerospace Exploration (WAE)\, a hands-on enrichment program for students in grades 6-12 from the team at Wings Over the Rockies™. During this session\, we will provide a program overview\, introduce our staff and instructors\, share stories from current and past students and answer your questions! This meeting will take place at Exploration of Flight at Centennial Airport (13005 Wings Way\, Englewood\, CO 80112).  \nRegister Here \nWings is thrilled to announce the expansion of the WAE pathway at our Exploration of Flight campus at Centennial Airport to include middle school classes! For this upcoming 2025/2026 school year\, WAE Centennial will be open to middle school and high school students (grades 6-12). \nWAE students have the opportunity to explore the wonders of flight\, engage with industry professionals\, and gain valuable skills for future careers in aerospace. The program includes building and operating RC airplanes\, drones and robotics\, as well as coding\, rocketry and LOTS of other aviation and space related subjects. Wings Aerospace Exploration is an enrichment program and complements but does not take the place of an accredited educational institution. \nQuestions? Please contact:\nNedra Hall – Program Coordinator\, 303.360.5360 ext 125\nWingsEducation@WingsMuseum.org
URL:https://wingsmuseum.org/events/wae-parent-night-8/
LOCATION:Exploration of Flight (Centennial Airport)
CATEGORIES:Education,Special Events,Wings Aerospace Exploration Events
ATTACH;FMTTYPE=image/jpeg:/wp-content/uploads/Drone-Showcase_Resized-1.jpg
END:VEVENT
BEGIN:VEVENT
DTSTART;VALUE=DATE:20250728
DTEND;VALUE=DATE:20250802
DTSTAMP:20260421T124628
CREATED:20241113T223611Z
LAST-MODIFIED:20250206T232333Z
UID:4121-1753660800-1754092799@wingsmuseum.org
SUMMARY:Summer Camp: X-Planes
DESCRIPTION:X marks the spot when it comes to experimental aircraft or X-planes. These unique planes are part science fiction and part aerospace design for the future. Campers will build their own X-plane gliders and more. \nRegister Here \nCAMP LOCATION: The Air & Space Museum in Denver’s Lowry neighborhood (7711 East Academy Blvd\, Denver\, CO 80230).
URL:https://wingsmuseum.org/events/summer-camp-x-planes/
LOCATION:Air & Space Museum
CATEGORIES:Education
ATTACH;FMTTYPE=image/jpeg:/wp-content/uploads/X-Planes_Lowry.jpg
END:VEVENT
BEGIN:VEVENT
DTSTART;VALUE=DATE:20250728
DTEND;VALUE=DATE:20250802
DTSTAMP:20260421T124628
CREATED:20241113T225345Z
LAST-MODIFIED:20250422T145935Z
UID:4130-1753660800-1754092799@wingsmuseum.org
SUMMARY:Summer Camp: AeroTech
DESCRIPTION:This camp is sold out – click here to join the waitlist. \nIt’s an incredible journey into the world of aviation and engineering! Campers will engage in thrilling challenges such as 3D modeling and printing\, building a rivet plane\, exploring simple electrical circuit designs and more. \nCAMP LOCATION: Exploration of Flight at Centennial Airport (13005 Wings Way\, Englewood\, CO 80112). 
URL:https://wingsmuseum.org/events/summer-camp-aerotech-2/
LOCATION:Exploration of Flight (Centennial Airport)
CATEGORIES:Education
ATTACH;FMTTYPE=image/jpeg:/wp-content/uploads/Aerotech-Updated.jpg
END:VEVENT
END:VCALENDAR