BEGIN:VCALENDAR
VERSION:2.0
PRODID:-//Wings Over The Rockies - ECPv6.15.20//NONSGML v1.0//EN
CALSCALE:GREGORIAN
METHOD:PUBLISH
X-WR-CALNAME:Wings Over The Rockies
X-ORIGINAL-URL:https://wingsmuseum.org
X-WR-CALDESC:Events for Wings Over The Rockies
REFRESH-INTERVAL;VALUE=DURATION:PT1H
X-Robots-Tag:noindex
X-PUBLISHED-TTL:PT1H
BEGIN:VTIMEZONE
TZID:America/Denver
BEGIN:DAYLIGHT
TZOFFSETFROM:-0700
TZOFFSETTO:-0600
TZNAME:MDT
DTSTART:20240310T090000
END:DAYLIGHT
BEGIN:STANDARD
TZOFFSETFROM:-0600
TZOFFSETTO:-0700
TZNAME:MST
DTSTART:20241103T080000
END:STANDARD
BEGIN:DAYLIGHT
TZOFFSETFROM:-0700
TZOFFSETTO:-0600
TZNAME:MDT
DTSTART:20250309T090000
END:DAYLIGHT
BEGIN:STANDARD
TZOFFSETFROM:-0600
TZOFFSETTO:-0700
TZNAME:MST
DTSTART:20251102T080000
END:STANDARD
BEGIN:DAYLIGHT
TZOFFSETFROM:-0700
TZOFFSETTO:-0600
TZNAME:MDT
DTSTART:20260308T090000
END:DAYLIGHT
BEGIN:STANDARD
TZOFFSETFROM:-0600
TZOFFSETTO:-0700
TZNAME:MST
DTSTART:20261101T080000
END:STANDARD
END:VTIMEZONE
BEGIN:VEVENT
DTSTART;TZID=America/Denver:20251007T183000
DTEND;TZID=America/Denver:20251007T200000
DTSTAMP:20260423T195152
CREATED:20250902T170714Z
LAST-MODIFIED:20250908T165009Z
UID:4979-1759861800-1759867200@wingsmuseum.org
SUMMARY:Wicked Wings: Tales from the Dark Side of Aerospace
DESCRIPTION:Step into the shadows of aerospace history this Halloween season and join us for a special after-hours tour at the Air & Space Museum! From airplanes carrying illicit cargo to crime\, bribery and near-catastrophe – sometimes the spookiest stories aren’t supernatural. We’ll dim the lights\, hold flashlights under our chins and share tales of the manmade horrors of aerospace. Discover the darker side of flight during this unforgettable evening experience! \nGet Tickets \nTicket Prices: \n\nAdult (17 – 64): $25\nSenior (65+): $22.50\nActive Duty/Veteran: $22.50\nWings Members: Sign in to receive 10% off!\n\nCan’t make it on this date? Join us for one of the following tour dates! \n\nOctober 15\nOctober 22\nOctober 30\n\nPhoto above courtesy of Erik Holladay.
URL:https://wingsmuseum.org/events/wicked-wings-tour/
LOCATION:Air & Space Museum
CATEGORIES:Holiday Event,Special Events
ATTACH;FMTTYPE=image/jpeg:/wp-content/uploads/Wicked-Wings_Resized.jpg
END:VEVENT
BEGIN:VEVENT
DTSTART;VALUE=DATE:20251009
DTEND;VALUE=DATE:20251010
DTSTAMP:20260423T195152
CREATED:20250307T234058Z
LAST-MODIFIED:20250307T234058Z
UID:4395-1759968000-1760054399@wingsmuseum.org
SUMMARY:Air & Space Museum Closure
DESCRIPTION:The Air & Space Museum in Denver is closed Thursday\, October 9\, 2025 for a private event. We apologize for any inconvenience. Plan your next visit. 
URL:https://wingsmuseum.org/events/air-space-museum-closure-49/
LOCATION:Air & Space Museum
CATEGORIES:Closings/Delays,Important Notices
END:VEVENT
BEGIN:VEVENT
DTSTART;TZID=America/Denver:20251011T093000
DTEND;TZID=America/Denver:20251011T123000
DTSTAMP:20260423T195152
CREATED:20250821T212702Z
LAST-MODIFIED:20250926T181846Z
UID:4946-1760175000-1760185800@wingsmuseum.org
SUMMARY:Breakfast Fly-In & Treats on the Tarmac
DESCRIPTION:Join us at Wings Exploration of Flight for a spooktastic day of trick-or-treating! Wear your costume and meet pilots as you collect candy from cockpits. Explore the tarmac and see airplanes up close in a safe\, family-friendly environment. Plus\, enjoy breakfast from a local food truck\, watch aircraft fly in and explore interactive exhibits and simulators. \nPre-Purchase Tickets \nPilots – Fly in for free breakfast! For tie-down space\, contact Flight@WingsMuseum.org or 303.360.5360 ext 160. \nFood Truck: Cruz In & Eat \n*Weather permitting. Aircraft on display are subject to change. Food is not included with admission. \nSafety Reminder\nTo ensure a safe and enjoyable experience for everyone\, please note that weapons of any kind\, including those that may be part of a costume\, are strictly prohibited inside the museum. This includes items like: \n\nFake swords\, knives\, or guns\nPointed or sharp objects\nAnything that could potentially be considered a weapon (even if part of your costume)\n\nWe ask that you please leave such items at home or in your vehicle. Let’s keep this day fun and safe!
URL:https://wingsmuseum.org/events/breakfast-fly-in-and-treats/
LOCATION:Exploration of Flight (Centennial Airport)
CATEGORIES:Special Events
ATTACH;FMTTYPE=image/jpeg:/wp-content/uploads/Treats-on-the-Tarmac-Fly-In-October-_Resized.jpg
END:VEVENT
BEGIN:VEVENT
DTSTART;TZID=America/Denver:20251015T183000
DTEND;TZID=America/Denver:20251015T200000
DTSTAMP:20260423T195152
CREATED:20250904T170018Z
LAST-MODIFIED:20251015T164035Z
UID:4982-1760553000-1760558400@wingsmuseum.org
SUMMARY:Wicked Wings: Tales from the Dark Side of Aerospace: Canceled
DESCRIPTION:Step into the shadows of aerospace history this Halloween season and join us for a special after-hours tour at the Air & Space Museum! From airplanes carrying illicit cargo to crime\, bribery and near-catastrophe – sometimes the spookiest stories aren’t supernatural. We’ll dim the lights\, hold flashlights under our chins and share tales of the manmade horrors of aerospace. Discover the darker side of flight during this unforgettable evening experience! \nGet Tickets \nTicket Prices: \n\nAdult (17 – 64): $25\nSenior (65+): $22.50\nActive Duty/Veteran: $22.50\nWings Members: Sign in to receive 10% off!\n\nCan’t make it on this date? Join us for one of the following tour dates! \n\nOctober 22\nOctober 30\n\nPhoto above courtesy of Erik Holladay.
URL:https://wingsmuseum.org/events/wicked-wings-tour-2/
LOCATION:Air & Space Museum
CATEGORIES:Holiday Event,Special Events
ATTACH;FMTTYPE=image/jpeg:/wp-content/uploads/Wicked-Wings_Resized.jpg
END:VEVENT
BEGIN:VEVENT
DTSTART;VALUE=DATE:20251018
DTEND;VALUE=DATE:20251019
DTSTAMP:20260423T195152
CREATED:20250307T234136Z
LAST-MODIFIED:20250307T234136Z
UID:4396-1760745600-1760831999@wingsmuseum.org
SUMMARY:Air & Space Museum Closure
DESCRIPTION:The Air & Space Museum in Denver is closed Saturday\, October 18\, 2025 for a private event. We apologize for any inconvenience. Plan your next visit. 
URL:https://wingsmuseum.org/events/air-space-museum-closure-50/
LOCATION:Air & Space Museum
CATEGORIES:Closings/Delays,Important Notices
END:VEVENT
BEGIN:VEVENT
DTSTART;TZID=America/Denver:20251018T100000
DTEND;TZID=America/Denver:20251018T163000
DTSTAMP:20260423T195152
CREATED:20250905T164711Z
LAST-MODIFIED:20250908T164748Z
UID:4991-1760781600-1760805000@wingsmuseum.org
SUMMARY:Aviation Merit Badge Program
DESCRIPTION:Earn your Aviation Merit Badge!\nCome and learn about aviation basics. Plot your course or flying adventure without ever leaving the ground. Build a glider from a foam plate and experience the Wings Over the Rockies Flight Simulator Room. Our penguin class also includes a tour of the Air & Space Museum! \nThe cost of the class is $25. Please bring a sack lunch. Adults can sit in if space is available. Adults should not register for the class but must pay the museum entry fee. \nRegister Here
URL:https://wingsmuseum.org/events/aviation-merit-badge-oct/
LOCATION:Air & Space Museum
CATEGORIES:Education,Special Events
END:VEVENT
BEGIN:VEVENT
DTSTART;TZID=America/Denver:20251018T103000
DTEND;TZID=America/Denver:20251018T113000
DTSTAMP:20260423T195152
CREATED:20250908T172909Z
LAST-MODIFIED:20251015T164233Z
UID:5018-1760783400-1760787000@wingsmuseum.org
SUMMARY:Little Wings: Plane Spotting: Sold Out
DESCRIPTION:Let your child’s curiosity take flight and join us at Exploration of Flight to explore the amazing world of airplanes! Join us on the third Saturday of the month for a plane spotting adventure. Participants will learn about the different parts of an airplane and how airports work. Then it’s off to the tarmac to spot real planes in action – watch them take off\, land and soar through the skies at Centennial Airport! \nBuy Tickets \nWings’ Members: Sign in to receive 50% off tickets!\nDoors open at 10:20 a.m. Program begins promptly at 10:35 a.m. \nSupported by:\n \nThis program is designed for children aged 3-6 years old and their guardians. Siblings are welcome to participate. Adults must accompany children at all times. All attendees must purchase a program ticket; general admission to Exploration of Flight is included with program ticket. A significant portion of this activity takes place outdoors on the tarmac. Weather appropriate clothing\, water\, sunscreen and hats are recommended. Some binoculars will be available for use\, and feel welcome to bring your own binoculars. 
URL:https://wingsmuseum.org/events/little-wings-plane-spotting-oct/
LOCATION:Exploration of Flight (Centennial Airport)
ATTACH;FMTTYPE=image/jpeg:/wp-content/uploads/Little-Wings-October_Resized.jpg
END:VEVENT
BEGIN:VEVENT
DTSTART;TZID=America/Denver:20251018T140000
DTEND;TZID=America/Denver:20251018T170000
DTSTAMP:20260423T195152
CREATED:20251003T213235Z
LAST-MODIFIED:20251003T213235Z
UID:5127-1760796000-1760806800@wingsmuseum.org
SUMMARY:Exploration of Flight Early Closure
DESCRIPTION:Exploration of Flight at Centennial Airport will be closing early tomorrow\, Saturday\, October 18 at 2:00 p.m. for a private event. We apologize for any inconvenience. Plan your next visit at WingsMuseum.org/Visit. 
URL:https://wingsmuseum.org/events/exploration-of-flight-early-closure/
LOCATION:Exploration of Flight (Centennial Airport)
CATEGORIES:Closings/Delays,Important Notices
END:VEVENT
BEGIN:VEVENT
DTSTART;TZID=America/Denver:20251019T120000
DTEND;TZID=America/Denver:20251019T160000
DTSTAMP:20260423T195152
CREATED:20250822T210416Z
LAST-MODIFIED:20251006T185520Z
UID:4952-1760875200-1760889600@wingsmuseum.org
SUMMARY:Painted Planes & Pumpkins
DESCRIPTION:Join us at Exploration of Flight for a day of fun\, creativity and discovery at the hangar! Experience the artistry of aircraft designs up close\, watch model airplane demonstrations by the International Plastic Modeler Society\, check out photography by Steven Byers\, take part in a pumpkin painting activity and indulge in delicious food from a local food truck! Don’t miss a special presentation at 1:00 p.m. by Wings’ Curator\, Stewart Bailey\, titled “Flying Colors: The Art of Being Seen”. \nSpend your Sunday surrounded by community\, creativity and the wonder of flight! \nBuy Tickets \nFood Truck: Wafflerita\nFood is not included with admission.
URL:https://wingsmuseum.org/events/painted-planes-pumpkins/
LOCATION:Exploration of Flight (Centennial Airport)
CATEGORIES:Holiday Event,Special Events
ATTACH;FMTTYPE=image/jpeg:/wp-content/uploads/Fall-Festival2_Resized.jpg
END:VEVENT
BEGIN:VEVENT
DTSTART;TZID=America/Denver:20251022T183000
DTEND;TZID=America/Denver:20251022T200000
DTSTAMP:20260423T195152
CREATED:20250904T171007Z
LAST-MODIFIED:20250908T165056Z
UID:4984-1761157800-1761163200@wingsmuseum.org
SUMMARY:Wicked Wings: Tales from the Dark Side of Aerospace
DESCRIPTION:Step into the shadows of aerospace history this Halloween season and join us for a special after-hours tour at the Air & Space Museum! From airplanes carrying illicit cargo to crime\, bribery and near-catastrophe – sometimes the spookiest stories aren’t supernatural. We’ll dim the lights\, hold flashlights under our chins and share tales of the manmade horrors of aerospace. Discover the darker side of flight during this unforgettable evening experience! \nGet Tickets \nTicket Prices: \n\nAdult (17 – 64): $25\nSenior (65+): $22.50\nActive Duty/Veteran: $22.50\nWings Members: Sign in to receive 10% off!\n\nCan’t make it on this date? Join us for the next tour on October 30! \nPhoto above courtesy of Erik Holladay.
URL:https://wingsmuseum.org/events/wicked-wings-tour-3/
LOCATION:Air & Space Museum
CATEGORIES:Holiday Event,Special Events
ATTACH;FMTTYPE=image/jpeg:/wp-content/uploads/Wicked-Wings_Resized.jpg
END:VEVENT
BEGIN:VEVENT
DTSTART;TZID=America/Denver:20251025T100000
DTEND;TZID=America/Denver:20251025T140000
DTSTAMP:20260423T195152
CREATED:20250915T210544Z
LAST-MODIFIED:20251006T144643Z
UID:5031-1761386400-1761400800@wingsmuseum.org
SUMMARY:Hauntings in the Hangar
DESCRIPTION:Get ready for a spook–tacular fun time at Wings Over the Rockies Air & Space Museum! Celebrate Halloween in the hangar with thrills and chills for all ages.  \nCome in costume and enjoy many frightfully festive family activities including:   \n\nTrick-or-Treat Candy Stations\nScavenger Hunt \nDiscovery Carts\nActivities & Crafts\nBalloon Animals from Clownin’ Around For Fun\nMovie Cars from Geek Garage\nOpen Cockpits\n\nStar Wars™ Pod Racer\nStar Wars™ Incom T-65 X-Wing Fighter\nPaser-Busby Mustang II\nConvair F-102A Delta Dagger\n\n\nPedal Planes\nAnd much more! \n\nPurchase Tickets \nCandy bags will be offered while supplies last. \nSafety Reminder\nTo ensure a safe and enjoyable experience for everyone\, please note that weapons of any kind\, including those that may be part of a costume\, are strictly prohibited inside the museum. This includes items like: \n\nFake swords\, knives\, or guns\nPointed or sharp objects\nAnything that could potentially be considered a weapon (even if part of your costume)\n\nWe ask that you please leave such items at home or in your vehicle. Let’s keep this day fun and safe!
URL:https://wingsmuseum.org/events/hauntings-in-the-hangar/
LOCATION:Air & Space Museum
CATEGORIES:Holiday Event,Kids Activities,Special Events
ATTACH;FMTTYPE=image/jpeg:/wp-content/uploads/Hauntings_Resized.jpg
END:VEVENT
BEGIN:VEVENT
DTSTART;TZID=America/Denver:20251026T100000
DTEND;TZID=America/Denver:20251026T113000
DTSTAMP:20260423T195152
CREATED:20250917T164646Z
LAST-MODIFIED:20251006T144738Z
UID:5038-1761472800-1761478200@wingsmuseum.org
SUMMARY:Sensory Friendly Hours
DESCRIPTION:We are pleased to offer a more comfortable museum experience for our friends who have sensory processing sensitivities and their families. We welcome families with children\, teenagers and adults with sensory processing disorders and other cognitive disabilities\, including anyone on the autism spectrum\, to experience our museum in a lower sensory environment. \nJoin us to experience the museum turned down and participate in hands-on STEAM activities including a scavenger hunt\, discovery carts\, sensory activities and more! \nAdmission is FREE for children or adults with sensory processing sensitivities and their families. Please pre-register at the link below. \nRegister Here \nClick here to learn more about accessibility\, amenities and view a social narrative and map for your visit to the Air & Space Museum.
URL:https://wingsmuseum.org/events/sensory-friendly-hours-oct/
LOCATION:Air & Space Museum
CATEGORIES:Special Events
ATTACH;FMTTYPE=image/jpeg:/wp-content/uploads/Sensory-Friendly-Hours-April_Resized.jpg
END:VEVENT
BEGIN:VEVENT
DTSTART;VALUE=DATE:20251029
DTEND;VALUE=DATE:20251030
DTSTAMP:20260423T195152
CREATED:20250723T180704Z
LAST-MODIFIED:20250723T180704Z
UID:4843-1761696000-1761782399@wingsmuseum.org
SUMMARY:Air & Space Museum Closure
DESCRIPTION:The Air & Space Museum in Denver is closed Wednesday\, October 29\, 2025 for a private event. We apologize for any inconvenience. Plan your next visit. 
URL:https://wingsmuseum.org/events/air-space-museum-closure-3/
LOCATION:Air & Space Museum
CATEGORIES:Closings/Delays,Important Notices
END:VEVENT
BEGIN:VEVENT
DTSTART;TZID=America/Denver:20251030T183000
DTEND;TZID=America/Denver:20251030T200000
DTSTAMP:20260423T195152
CREATED:20250904T171247Z
LAST-MODIFIED:20250908T165113Z
UID:4985-1761849000-1761854400@wingsmuseum.org
SUMMARY:Wicked Wings: Tales from the Dark Side of Aerospace
DESCRIPTION:Step into the shadows of aerospace history this Halloween season and join us for a special after-hours tour at the Air & Space Museum! From airplanes carrying illicit cargo to crime\, bribery and near-catastrophe – sometimes the spookiest stories aren’t supernatural. We’ll dim the lights\, hold flashlights under our chins and share tales of the manmade horrors of aerospace. Discover the darker side of flight during this unforgettable evening experience! \nGet Tickets \nTicket Prices: \n\nAdult (17 – 64): $25\nSenior (65+): $22.50\nActive Duty/Veteran: $22.50\nWings Members: Sign in to receive 10% off!\n\nPhoto above courtesy of Erik Holladay.
URL:https://wingsmuseum.org/events/wicked-wings-tour-4/
LOCATION:Air & Space Museum
CATEGORIES:Holiday Event,Special Events
ATTACH;FMTTYPE=image/jpeg:/wp-content/uploads/Wicked-Wings_Resized.jpg
END:VEVENT
END:VCALENDAR