BEGIN:VCALENDAR
VERSION:2.0
PRODID:-//Wings Over The Rockies - ECPv6.15.20//NONSGML v1.0//EN
CALSCALE:GREGORIAN
METHOD:PUBLISH
X-WR-CALNAME:Wings Over The Rockies
X-ORIGINAL-URL:https://wingsmuseum.org
X-WR-CALDESC:Events for Wings Over The Rockies
REFRESH-INTERVAL;VALUE=DURATION:PT1H
X-Robots-Tag:noindex
X-PUBLISHED-TTL:PT1H
BEGIN:VTIMEZONE
TZID:America/Denver
BEGIN:DAYLIGHT
TZOFFSETFROM:-0700
TZOFFSETTO:-0600
TZNAME:MDT
DTSTART:20250309T090000
END:DAYLIGHT
BEGIN:STANDARD
TZOFFSETFROM:-0600
TZOFFSETTO:-0700
TZNAME:MST
DTSTART:20251102T080000
END:STANDARD
BEGIN:DAYLIGHT
TZOFFSETFROM:-0700
TZOFFSETTO:-0600
TZNAME:MDT
DTSTART:20260308T090000
END:DAYLIGHT
BEGIN:STANDARD
TZOFFSETFROM:-0600
TZOFFSETTO:-0700
TZNAME:MST
DTSTART:20261101T080000
END:STANDARD
BEGIN:DAYLIGHT
TZOFFSETFROM:-0700
TZOFFSETTO:-0600
TZNAME:MDT
DTSTART:20270314T090000
END:DAYLIGHT
BEGIN:STANDARD
TZOFFSETFROM:-0600
TZOFFSETTO:-0700
TZNAME:MST
DTSTART:20271107T080000
END:STANDARD
END:VTIMEZONE
BEGIN:VEVENT
DTSTART;TZID=America/Denver:20260504T180000
DTEND;TZID=America/Denver:20260504T193000
DTSTAMP:20260419T065652
CREATED:20260127T182427Z
LAST-MODIFIED:20260130T205420Z
UID:5479-1777917600-1777923000@wingsmuseum.org
SUMMARY:Wings Aerospace Exploration Parent / Family Info Night
DESCRIPTION:Full STEAM Ahead – Launch Your Students’ Aerospace Journey! \nJoin us to learn about both Wings Aerospace Exploration (WAE) and Wings Aerospace Exploration Enrichment (WAEE) opportunities for students in grades 6–12 from the team at Wings Over the Rockies®. During this session\, you’ll hear a program overview\, meet our educators and instructors\, learn from current and former student experiences\, and get your questions answered. This meeting will take place at Exploration of Flight (13005 Wings Way\, Englewood\, CO 80112).  \nRegister Here \nDiscover how WAE / WAEE students have the opportunity to explore the wonders of flight\, engage with industry professionals\, and gain valuable skills for future careers in aerospace. The program includes building and operating RC airplanes\, drones\, and robotics\, as well as coding\, rocketry\, and LOTS of other aviation and space-related subjects. WAE / WAEE programs complement but do not take the place of an accredited educational institution. \nQuestions? Please contact:\nNedra Hall – Education Programs Coordinator\, 303.360.5360 ext. 125.\nWingsEducation@WingsMuseum.org
URL:https://wingsmuseum.org/events/wings-aerospace-exploration-parent-family-info-night-may4/
LOCATION:Exploration of Flight (Centennial Airport)
CATEGORIES:Education,Special Events,Wings Aerospace Exploration Events
ATTACH;FMTTYPE=image/jpeg:/wp-content/uploads/WAE-Parent-Night-June_EoF_Resized.jpg
END:VEVENT
BEGIN:VEVENT
DTSTART;TZID=America/Denver:20260506T180000
DTEND;TZID=America/Denver:20260506T193000
DTSTAMP:20260419T065652
CREATED:20260127T184815Z
LAST-MODIFIED:20260130T205444Z
UID:5487-1778090400-1778095800@wingsmuseum.org
SUMMARY:Wings Aerospace Exploration Parent / Family Info Night
DESCRIPTION:Full STEAM Ahead – Launch Your Students’ Aerospace Journey! \nJoin us to learn about both Wings Aerospace Exploration (WAE) and Wings Aerospace Exploration Enrichment (WAEE) opportunities for students in grades 6–12 from the team at Wings Over the Rockies®. During this session\, you’ll hear a program overview\, meet our educators and instructors\, learn from current and former student experiences\, and get your questions answered. This meeting will take place at the Air & Space Museum (7711 East Academy Blvd\, Denver\, CO 80230). \nRegister Here \nDiscover how WAE / WAEE students have the opportunity to explore the wonders of flight\, engage with industry professionals\, and gain valuable skills for future careers in aerospace. The program includes building and operating RC airplanes\, drones\, and robotics\, as well as coding\, rocketry\, and LOTS of other aviation and space-related subjects. WAE / WAEE programs complement but do not take the place of an accredited educational institution. \nQuestions? Please contact:\nNedra Hall – Education Programs Coordinator\, 303.360.5360 ext. 125.\nWingsEducation@WingsMuseum.org
URL:https://wingsmuseum.org/events/canceled-wings-aerospace-exploration-parent-family-info-night-may6/
LOCATION:Air & Space Museum
CATEGORIES:Education,Special Events,Wings Aerospace Exploration Events
ATTACH;FMTTYPE=image/jpeg:/wp-content/uploads/3D-Modeling-Printing_Resized.jpg
END:VEVENT
BEGIN:VEVENT
DTSTART;TZID=America/Denver:20260523T100000
DTEND;TZID=America/Denver:20260523T163000
DTSTAMP:20260419T065652
CREATED:20260119T235104Z
LAST-MODIFIED:20260119T235139Z
UID:5465-1779530400-1779553800@wingsmuseum.org
SUMMARY:Scout Merit Badge Workshop
DESCRIPTION:Earn your Aviation Merit Badge!\nCome and learn about aviation basics\, pilot your course or flying adventure without ever leaving the ground\, build a glider from a foam plate and experience the Wings Over the Rockies Flight Simulator Room. Our penguin class also includes a tour of the Air & Space Museum! \nThe cost of the class is $25. Please bring a sack lunch. Adults can sit in if space is available and should not register for the class\, but instead must pay the museum entry fee. \nRegister Here \nPrerequisite: Please download and print the Merit Badge Worksheet and complete step 5 before class. \nPlease bring your worksheet and a pen to the class. Using resources on the back of the homework\, consider three careers in aviation that excite you. Choose the one you are interested in and list the education\, training\, and experience you need for the job!
URL:https://wingsmuseum.org/events/scout-merit-badge-workshop-may26/
LOCATION:Air & Space Museum
CATEGORIES:Education,Special Events
END:VEVENT
END:VCALENDAR